BEGIN:VCALENDAR
VERSION:2.0
PRODID:-//IMPACT Centre of Competence - ECPv6.13.2.1//NONSGML v1.0//EN
CALSCALE:GREGORIAN
METHOD:PUBLISH
X-WR-CALNAME:IMPACT Centre of Competence
X-ORIGINAL-URL:https://www.digitisation.eu
X-WR-CALDESC:Events for IMPACT Centre of Competence
REFRESH-INTERVAL;VALUE=DURATION:PT1H
X-Robots-Tag:noindex
X-PUBLISHED-TTL:PT1H
BEGIN:VTIMEZONE
TZID:Europe/Madrid
BEGIN:DAYLIGHT
TZOFFSETFROM:+0100
TZOFFSETTO:+0200
TZNAME:CEST
DTSTART:20220327T010000
END:DAYLIGHT
BEGIN:STANDARD
TZOFFSETFROM:+0200
TZOFFSETTO:+0100
TZNAME:CET
DTSTART:20221030T010000
END:STANDARD
END:VTIMEZONE
BEGIN:VEVENT
DTSTART;VALUE=DATE:20220706
DTEND;VALUE=DATE:20220707
DTSTAMP:20260420T134055
CREATED:20220407T130901Z
LAST-MODIFIED:20220407T133722Z
UID:16698-1657065600-1657151999@www.digitisation.eu
SUMMARY:LIBER 2022
DESCRIPTION:Held in late June or early July\, the conference brings library directors and their staff together for three days of networking and collaboration. Delegates mainly come from Europe but people from around the world are welcome\, and we regularly welcome guests from countries including Australia\, Canada and the United States.\nThe goal of the conference is to identify the most pressing needs for research libraries\, and to share information and ideas for addressing those needs. \nBefore the main conference\, many delegates join workshops and meetings for LIBER Working Groups\, and following the conference social events such as tours of the area are arranged for those who wish to participate.
URL:https://www.digitisation.eu/event/liber-2022/
ATTACH;FMTTYPE=image/png:https://www.digitisation.eu/wp-content/uploads/2022/04/LiberOdense22-logo.png
ORGANIZER;CN="LIBER":MAILTO:liber@kb.nl
END:VEVENT
BEGIN:VEVENT
DTSTART;VALUE=DATE:20220726
DTEND;VALUE=DATE:20220727
DTSTAMP:20260420T134055
CREATED:20220407T130901Z
LAST-MODIFIED:20220407T133342Z
UID:16697-1658793600-1658879999@www.digitisation.eu
SUMMARY:87th IFLA WLIC 2022
DESCRIPTION:After three years without the opportunity to meet in person\, IFLA WLIC is going once again for a physical conference.WLIC 2022 will be an opportunity to share\, learn and innovate\, but also to reunite with friends and colleagues after a long break. The WLIC conference will be held for first time ever in Ireland.\nIn conjunction with the Irish National Committee\, IFLA will be confirming activities and publishing more information as the Congress plans develop.
URL:https://www.digitisation.eu/event/87th-ifla-wlic-2022/
ATTACH;FMTTYPE=image/png:https://www.digitisation.eu/wp-content/uploads/2022/04/Web-logo-2022_Info-L-1.png
ORGANIZER;CN="IFLA":MAILTO:ifla@ifla.org
END:VEVENT
END:VCALENDAR