BEGIN:VCALENDAR
VERSION:2.0
PRODID:-//IMPACT Centre of Competence - ECPv6.13.2.1//NONSGML v1.0//EN
CALSCALE:GREGORIAN
METHOD:PUBLISH
X-WR-CALNAME:IMPACT Centre of Competence
X-ORIGINAL-URL:https://www.digitisation.eu
X-WR-CALDESC:Events for IMPACT Centre of Competence
REFRESH-INTERVAL;VALUE=DURATION:PT1H
X-Robots-Tag:noindex
X-PUBLISHED-TTL:PT1H
BEGIN:VTIMEZONE
TZID:Europe/Madrid
BEGIN:DAYLIGHT
TZOFFSETFROM:+0100
TZOFFSETTO:+0200
TZNAME:CEST
DTSTART:20220327T010000
END:DAYLIGHT
BEGIN:STANDARD
TZOFFSETFROM:+0200
TZOFFSETTO:+0100
TZNAME:CET
DTSTART:20221030T010000
END:STANDARD
END:VTIMEZONE
BEGIN:VEVENT
DTSTART;VALUE=DATE:20220523
DTEND;VALUE=DATE:20220524
DTSTAMP:20260420T165107
CREATED:20220407T100019Z
LAST-MODIFIED:20220407T100019Z
UID:16688-1653264000-1653264000@www.digitisation.eu
SUMMARY:Web Archiving Conference 2022
DESCRIPTION:The General Assembly (GA) and the Web Archiving Conference (WAC) 2022 will be hosted online by the Library of Congress and the IIPC. The GA will be organised on May 17-19 as a series of meetings for IIPC members and will accommodate all IIPC time zones. WAC will begin with a day of workshops on May 23\, and continue with the conference from May 24-25\, trying to accommodate as many time zones as possible. \nConference format\nThe conference program will consist primarily of live Q&A sessions. Presenter will be asked to create a 10-15 minute video presentation which will be published (with password protection) on Vimeo\, and accessed by registered delegates before the Conference. These videos will not be played during the conference sessions. If presentations are recorded in languages other than English\, the presenters will be asked to provide captions in English. \nDuring the live Q&A session\, each participant will be asked to give a short summary of their presentation (without slides) before the program committee assigned moderator opens the Q&A. Delegates will have the opportunity to submit questions in advance of the conference and during the live session. The Q&A sessions will be in English. \nIn addition to a poster (in the form of one or more slides)\, authors of posters and demos with accompanying lightning talks will be asked to submit a short video (up to 5 minutes) which will be published on Vimeo and also played during the live poster sessions. \nFollow #iipcGA22 | #iipWAC22 for latests updates.
URL:https://www.digitisation.eu/event/web-archiving-conference-2022/
LOCATION:Virtual
ATTACH;FMTTYPE=image/png:https://www.digitisation.eu/wp-content/uploads/2022/04/GA_WAC2022-banner.png
END:VEVENT
END:VCALENDAR