BEGIN:VCALENDAR
VERSION:2.0
PRODID:-//IMPACT Centre of Competence - ECPv6.13.2.1//NONSGML v1.0//EN
CALSCALE:GREGORIAN
METHOD:PUBLISH
X-ORIGINAL-URL:https://www.digitisation.eu
X-WR-CALDESC:Events for IMPACT Centre of Competence
REFRESH-INTERVAL;VALUE=DURATION:PT1H
X-Robots-Tag:noindex
X-PUBLISHED-TTL:PT1H
BEGIN:VTIMEZONE
TZID:Europe/Madrid
BEGIN:DAYLIGHT
TZOFFSETFROM:+0100
TZOFFSETTO:+0200
TZNAME:CEST
DTSTART:20200329T010000
END:DAYLIGHT
BEGIN:STANDARD
TZOFFSETFROM:+0200
TZOFFSETTO:+0100
TZNAME:CET
DTSTART:20201025T010000
END:STANDARD
END:VTIMEZONE
BEGIN:VEVENT
DTSTART;TZID=Europe/Madrid:20201125T083000
DTEND;TZID=Europe/Madrid:20201125T140000
DTSTAMP:20260423T234723
CREATED:20201123T110351Z
LAST-MODIFIED:20201123T110728Z
UID:16016-1606293000-1606312800@www.digitisation.eu
SUMMARY:INTELE Workshop
DESCRIPTION:Schedule: \n8.30 Connexion\n9.00 OPENING\n9.00 INTELE presentation by network coordinator: German Rigau\n9.15 Franciska de Jong CLARIN Director (English)\n9.35 Frank Fisher DARIAH Director (English)\n9.55 Q&A\n10.15 Break\n10.30 Invited speaker: Darja Fišer CLARIN use cases (English)\n11:30 Break\n12.00 Academic round table. \nPresenter: Dolores Romero (UCM)\nParticipants: \n\n\n\n\n\nJosé Luis Bueren: Biblioteca Nacional de España\nPaul Spence: Humanidades Digitales (King’s College London).\nSalvador Ros: Proyecto DESIR (UNED)\nGustavo Candela Romero: IMPACT CLARIN K-CENTRE/Biblioteca Virtual Cervantes\nMikel Iruskieta: The Spanish CLARIN K-CENTRE\nJosé Antonio Berenguer: Centro de Humanidades y Ciencias Sociales del CSIC\n\n\n\n\n\n13:30 Closing session \n* Poster presentation of research groups all day on INTELE website.
URL:https://www.digitisation.eu/event/intele-workshop/
LOCATION:online
CATEGORIES:Events,INTELE
ATTACH;FMTTYPE=image/png:https://www.digitisation.eu/wp-content/uploads/2020/11/burukoa_logo_0_0-1030x198-1.png
END:VEVENT
END:VCALENDAR