BEGIN:VCALENDAR
VERSION:2.0
PRODID:-//IMPACT Centre of Competence - ECPv6.13.2.1//NONSGML v1.0//EN
CALSCALE:GREGORIAN
METHOD:PUBLISH
X-ORIGINAL-URL:https://www.digitisation.eu
X-WR-CALDESC:Events for IMPACT Centre of Competence
REFRESH-INTERVAL;VALUE=DURATION:PT1H
X-Robots-Tag:noindex
X-PUBLISHED-TTL:PT1H
BEGIN:VTIMEZONE
TZID:Europe/Madrid
BEGIN:DAYLIGHT
TZOFFSETFROM:+0100
TZOFFSETTO:+0200
TZNAME:CEST
DTSTART:20200329T010000
END:DAYLIGHT
BEGIN:STANDARD
TZOFFSETFROM:+0200
TZOFFSETTO:+0100
TZNAME:CET
DTSTART:20201025T010000
END:STANDARD
END:VTIMEZONE
BEGIN:VEVENT
DTSTART;VALUE=DATE:20200317
DTEND;VALUE=DATE:20200321
DTSTAMP:20260424T135024
CREATED:20191217T134553Z
LAST-MODIFIED:20191217T134805Z
UID:15669-1584403200-1584748799@www.digitisation.eu
SUMMARY:DHN2020
DESCRIPTION:The Digital Humanities in Nordic Countries DHN2020 conference will be held in Riga on 17-20 March\, 2020 and is hosted by the National Library of Latvia\, the Digital Humanities Group of ILFA\, the Artificial Intelligence Laboratory (AiLab) at IMCS\, University of Latvia\, and the Nordic Council of Ministers.
URL:https://www.digitisation.eu/event/dhn2020/
LOCATION:National Library of Latvia\, Mūkusalas iela 3\, Riga\, Latvia
ATTACH;FMTTYPE=image/png:https://www.digitisation.eu/wp-content/uploads/2019/12/DHN-header-logo-full-text.png
END:VEVENT
END:VCALENDAR