BEGIN:VCALENDAR
VERSION:2.0
PRODID:-//IMPACT Centre of Competence - ECPv6.13.2.1//NONSGML v1.0//EN
CALSCALE:GREGORIAN
METHOD:PUBLISH
X-WR-CALNAME:IMPACT Centre of Competence
X-ORIGINAL-URL:https://www.digitisation.eu
X-WR-CALDESC:Events for IMPACT Centre of Competence
REFRESH-INTERVAL;VALUE=DURATION:PT1H
X-Robots-Tag:noindex
X-PUBLISHED-TTL:PT1H
BEGIN:VTIMEZONE
TZID:Australia/Melbourne
BEGIN:STANDARD
TZOFFSETFROM:+1100
TZOFFSETTO:+1000
TZNAME:AEST
DTSTART:20190406T160000
END:STANDARD
BEGIN:DAYLIGHT
TZOFFSETFROM:+1000
TZOFFSETTO:+1100
TZNAME:AEDT
DTSTART:20191005T160000
END:DAYLIGHT
END:VTIMEZONE
BEGIN:VEVENT
DTSTART;TZID=Australia/Melbourne:20191211T123000
DTEND;TZID=Australia/Melbourne:20191211T123000
DTSTAMP:20260424T190102
CREATED:20191209T150243Z
LAST-MODIFIED:20191209T150300Z
UID:15542-1576067400-1576067400@www.digitisation.eu
SUMMARY:Towards an Australian GLAM Labs network
DESCRIPTION:
URL:https://www.digitisation.eu/event/australian-glam-labs-webinar/
END:VEVENT
END:VCALENDAR