BEGIN:VCALENDAR
VERSION:2.0
PRODID:-//IMPACT Centre of Competence - ECPv6.13.2.1//NONSGML v1.0//EN
CALSCALE:GREGORIAN
METHOD:PUBLISH
X-ORIGINAL-URL:https://www.digitisation.eu
X-WR-CALDESC:Events for IMPACT Centre of Competence
REFRESH-INTERVAL;VALUE=DURATION:PT1H
X-Robots-Tag:noindex
X-PUBLISHED-TTL:PT1H
BEGIN:VTIMEZONE
TZID:Europe/Madrid
BEGIN:DAYLIGHT
TZOFFSETFROM:+0100
TZOFFSETTO:+0200
TZNAME:CEST
DTSTART:20180325T010000
END:DAYLIGHT
BEGIN:STANDARD
TZOFFSETFROM:+0200
TZOFFSETTO:+0100
TZNAME:CET
DTSTART:20181028T010000
END:STANDARD
END:VTIMEZONE
BEGIN:VEVENT
DTSTART;VALUE=DATE:20181018
DTEND;VALUE=DATE:20181020
DTSTAMP:20260426T001445
CREATED:20181010T101003Z
LAST-MODIFIED:20181010T101003Z
UID:15269-1539820800-1539993599@www.digitisation.eu
SUMMARY:WikiHackaton 2018
DESCRIPTION:[cs_content][cs_section parallax=”false” separator_top_type=”none” separator_top_height=”50px” separator_top_inset=”0px” separator_top_angle_point=”50″ separator_bottom_type=”none” separator_bottom_height=”50px” separator_bottom_inset=”0px” separator_bottom_angle_point=”50″ style=”margin: 0px;padding: 45px 0px;”][cs_row inner_container=”true” marginless_columns=”false” style=”margin: 0px auto;padding: 0px;”][cs_column fade=”false” fade_animation=”in” fade_animation_offset=”45px” fade_duration=”750″ type=”2/3″ style=”padding: 0px;”][cs_text] \n#WikiHackatón is a hackathon focused on use and re-use of open data through information technology in order to develop innovative solutions and implement services and web apps for the exploitation of Wikidata. \nWeb apps will be developed in multidisciplinary groups composed by a minimum of 3 people and a maximum of 5\, with the aim of set up applications that facilitate and improve the user experience. \n#WikiHackatón is also an opportunity for networking cooperation. Attendees will be able to exchange ideas during the “Open Data Brunches” included in the meeting. \n[/cs_text][/cs_column][cs_column fade=”false” fade_animation=”in” fade_animation_offset=”45px” fade_duration=”750″ type=”1/3″ style=”padding: 0px;”][x_recent_posts type=”post” count=”4″ offset=”” category=”Wikihackaton” orientation=”vertical” no_sticky=”true” no_image=”false” fade=”true”][/cs_column][/cs_row][/cs_section][/cs_content]
URL:https://www.digitisation.eu/event/wikihackaton-2018/
LOCATION:Universidad de Alicante\, Ctra de San Vicente del Raspeig\, S/N\, Alicante\, 03560\, Spain
ATTACH;FMTTYPE=image/jpeg:https://www.digitisation.eu/wp-content/uploads/2018/10/logo-hacka.jpg
END:VEVENT
BEGIN:VEVENT
DTSTART;TZID=Europe/Madrid:20181018T110000
DTEND;TZID=Europe/Madrid:20181018T120000
DTSTAMP:20260426T001445
CREATED:20230706T105827Z
LAST-MODIFIED:20230706T121434Z
UID:18182-1539860400-1539864000@www.digitisation.eu
SUMMARY:Advanced Imaging Services at KU Leuven Libraries
DESCRIPTION:Sesion lead\n\n\n\nBruno Vandermeulen\, Hendrik Hameeuw (KU Leuven) \n\n\n\nDescription\n\n\n\nThis webinar will focus on a selection of advanced imaging services which have been developed and used over the last years at the KU Leuven Libraries for the digitisation of documentary heritage. The presentation aims to demonstrate how a mid-range multispectral imaging set-up has step-by-step been fine-tuned towards a standardised acquisition procedure. In addition\, the functionalities and dissemination strategies for the at the KU Leuven developed White Light and Multispectral Portable Light Dome system will be discussed in detail. Since its introduction\, this advanced multi-light reflectance imaging method has been deployed with great success for many digitisation assignments on library materials. The webinar will show how these approaches are being integrated in the daily imaging activities and how they expand high quality imaging towards analytic documentation. \n\n\n\nSlides\n\n\n\n\nhttps://www.slideshare.net/impactproject/advanced-imaging-services-at-ku-leuven-libraries-webinar-slides\n\n\n\n\nRecording\n\n\n\n\n\n\n\n			 ARVE Error: src mismatch\n\nprovider:    youtubeurl:         https://www.youtube.com/watch?v=Yz6nyf-ErXw&list=PLHgYXaZMqUrj1jJLE-4rIRGkW9Em5AK8o&index=2&t=973ssrc:         https://www.youtube-nocookie.com/embed/Yz6nyf-ErXw?list=PLHgYXaZMqUrj1jJLE-4rIRGkW9Em5AK8osrc gen:     https://www.youtube-nocookie.com/embed/Yz6nyf-ErXw?start=973&list=PLHgYXaZMqUrj1jJLE-4rIRGkW9Em5AK8o
URL:https://www.digitisation.eu/event/advanced-imaging-services-at-ku-leuven-libraries-bruno-vandermeulen-hendrik-hameeuw-ku-leuven/
CATEGORIES:IMPACT Webinars
END:VEVENT
END:VCALENDAR