BEGIN:VCALENDAR
VERSION:2.0
PRODID:-//IMPACT Centre of Competence - ECPv6.13.2.1//NONSGML v1.0//EN
CALSCALE:GREGORIAN
METHOD:PUBLISH
X-ORIGINAL-URL:https://www.digitisation.eu
X-WR-CALDESC:Events for IMPACT Centre of Competence
REFRESH-INTERVAL;VALUE=DURATION:PT1H
X-Robots-Tag:noindex
X-PUBLISHED-TTL:PT1H
BEGIN:VTIMEZONE
TZID:Europe/Madrid
BEGIN:DAYLIGHT
TZOFFSETFROM:+0100
TZOFFSETTO:+0200
TZNAME:CEST
DTSTART:20180325T010000
END:DAYLIGHT
BEGIN:STANDARD
TZOFFSETFROM:+0200
TZOFFSETTO:+0100
TZNAME:CET
DTSTART:20181028T010000
END:STANDARD
END:VTIMEZONE
BEGIN:VEVENT
DTSTART;TZID=Europe/Madrid:20180913T090000
DTEND;TZID=Europe/Madrid:20180914T164000
DTSTAMP:20260426T015457
CREATED:20180912T083240Z
LAST-MODIFIED:20180912T085737Z
UID:14830-1536829200-1536943200@www.digitisation.eu
SUMMARY:Building Library Labs
DESCRIPTION:[cs_content][cs_section parallax=”false” separator_top_type=”none” separator_top_height=”50px” separator_top_inset=”0px” separator_top_angle_point=”50″ separator_bottom_type=”none” separator_bottom_height=”50px” separator_bottom_inset=”0px” separator_bottom_angle_point=”50″ style=”margin: 0px;padding: 45px 0px;”][cs_row inner_container=”true” marginless_columns=”false” style=”margin: 0px auto;padding: 0px;”][cs_column fade=”false” fade_animation=”in” fade_animation_offset=”45px” fade_duration=”750″ type=”2/3″ style=”padding: 0px;”][x_image type=”none” src=”https://www.digitisation.eu/wp-content/uploads/2018/09/Laboratory-Greyscale-3-resized-1600-x-900.jpg” alt=”” link=”false” href=”#” title=”” target=”” info=”none” info_place=”top” info_trigger=”hover” info_content=”” style=”width: 50%;float: left;padding-right: 10px;”][cs_text] \nDescription \nAround the world leading national\, state and university libraries are creating ‘lab type environments’ so that their digitised cultural heritage collections and data can be opened up and re-used for creative\, innovative and inspiring projects by everyone such as digital researchers\, artists\, entrepreneurs and educators. \nThis two-day event is a forum for discussion and networking\, bringing together national\, state and university libraries with existing or planned digital ‘Labs-style’ teams from around the world. It’s a chance to network\, share lessons learned\, and tell each other about innovative projects and services that are using digital collections / data in new and interesting ways. \nPlease note as spaces are limited\, this event page has been set up for attendees already invited. \nIf you are interested in coming to this event and have not been invited yet\, please email labs@bl.uk with a brief explanation as to why it would be important for you to attend. \nThe event is organised by the British Library Labs project. \nRefreshments / lunch are provided on both days. \nDate and Time \nThursday 13 September 2018\, 09:00 – 18:00 (followed by an optional dinner\, 19:30 – 21:00) \nFriday 14 September 2018\, 09:00 – 16:40 \nLocation\nThe British Library\, Foyle Suite\, Centre of Conservation\, St Pancras\, NW1 2DB London\, United Kingdom. \nMap\nPlease refer to the following map for how to get to the British Library. When you arrive at the library\, the Information Desk will be able to point you towards the Foyle Suite which is on the first floor and across the outdoor terrace at the back of the Library. \nProgramme\nA detailed programme is available here. \nTwitter \n#buildlibrarylabs & @bl_labs \n[/cs_text][/cs_column][cs_column fade=”false” fade_animation=”in” fade_animation_offset=”45px” fade_duration=”750″ type=”1/3″ style=”padding: 0px;”][x_recent_posts type=”post” count=”4″ offset=”” category=”IPRES2018″ orientation=”vertical” no_sticky=”true” no_image=”false” fade=”false”][/cs_column][/cs_row][/cs_section][/cs_content]
URL:https://www.digitisation.eu/event/building-library-labs/
LOCATION:The British Library\, St Pancras\, London\, London\, NW1 2DB\, United Kingdom
END:VEVENT
BEGIN:VEVENT
DTSTART;VALUE=DATE:20180918
DTEND;VALUE=DATE:20180922
DTSTAMP:20260426T015457
CREATED:20171004T082612Z
LAST-MODIFIED:20241209T081343Z
UID:14504-1537228800-1537574399@www.digitisation.eu
SUMMARY:TPDL 2018
DESCRIPTION:[cs_content][cs_section parallax=”false” separator_top_type=”none” separator_top_height=”50px” separator_top_angle_point=”50″ separator_bottom_type=”none” separator_bottom_height=”50px” separator_bottom_angle_point=”50″ style=”margin: 0px;padding: 45px 0px;”][cs_row inner_container=”true” marginless_columns=”false” style=”margin: 0px auto;padding: 0px;”][cs_column fade=”false” fade_animation=”in” fade_animation_offset=”45px” fade_duration=”750″ type=”2/3″ style=”padding: 0px;”][cs_text]The 22nd International Conference on Theory and Practice of Digital Libraries will take place on 18-21 September 2018 in Porto\, Portugal.\n\nThe programme commitee is composed by:\nGeneral Co-Chairs\n\n 	Cristina Ribeiro\, University of Porto\, Portugal\n 	Gabriel David\, University of Porto\, Portugal\n\nProgram Co-Chairs\n\n 	Eva Méndez\, Universidad Carlos III de Madrid\, Spain\n 	Fabio Crestani\, University of Lugano\, Switzerland\n[/cs_text][x_image type=”none” src=”https://www.digitisation.eu/wp-content/uploads/2017/10/logo_v1.png” alt=”” link=”false” href=”#” title=”” target=”” info=”none” info_place=”top” info_trigger=”hover” info_content=”” style=”float:left;padding-right:10px;”][/cs_column][cs_column fade=”false” fade_animation=”in” fade_animation_offset=”45px” fade_duration=”750″ type=”1/3″ style=”padding: 0px;”][x_recent_posts type=”post” count=”4″ offset=”” category=”TPDL2018″ orientation=”vertical” no_sticky=”true” no_image=”false” fade=”false”][/cs_column][/cs_row][/cs_section][/cs_content]
URL:https://www.digitisation.eu/event/tpdl-2018/
END:VEVENT
BEGIN:VEVENT
DTSTART;VALUE=DATE:20180924
DTEND;VALUE=DATE:20180928
DTSTAMP:20260426T015457
CREATED:20171004T111059Z
LAST-MODIFIED:20171004T111831Z
UID:14521-1537747200-1538092799@www.digitisation.eu
SUMMARY:iPRES 2018
DESCRIPTION:[cs_content][cs_section parallax=”false” separator_top_type=”none” separator_top_height=”50px” separator_top_angle_point=”50″ separator_bottom_type=”none” separator_bottom_height=”50px” separator_bottom_angle_point=”50″ style=”margin: 0px;padding: 45px 0px;”][cs_row inner_container=”true” marginless_columns=”false” style=”margin: 0px auto;padding: 0px;”][cs_column fade=”false” fade_animation=”in” fade_animation_offset=”45px” fade_duration=”750″ type=”2/3″ style=”padding: 0px;”][x_image type=”none” src=”https://www.digitisation.eu/wp-content/uploads/2017/10/Screenshot-from-2017-10-04-13-16-21.png” alt=”” link=”false” href=”#” title=”” target=”” info=”none” info_place=”top” info_trigger=”hover” info_content=”” style=”width: 25%;float: left;padding-right: 10px;”][cs_text]iPRES is a series of conferences on digital preservation. Since 2004\, iPRES conferences have been held on four continents. iPRES is the only international forum devoted to digital preservation. It brings together 300-400 scientists\, students\, researchers\, librarians\, archivists and other experts to share recent developments\, innovative projects and to collaboratively solve problems. \nThe 15th edition is co-hosted by Harvard Library and MIT Libraries[/cs_text][/cs_column][cs_column fade=”false” fade_animation=”in” fade_animation_offset=”45px” fade_duration=”750″ type=”1/3″ style=”padding: 0px;”][x_recent_posts type=”post” count=”4″ offset=”” category=”IPRES2018″ orientation=”vertical” no_sticky=”true” no_image=”false” fade=”false”][/cs_column][/cs_row][/cs_section][/cs_content]
URL:https://www.digitisation.eu/event/ipres-2018/
LOCATION:Harvard Library & MIT Library\, Cambridge\, MA\, United States
END:VEVENT
END:VCALENDAR