BEGIN:VCALENDAR
VERSION:2.0
PRODID:-//IMPACT Centre of Competence - ECPv6.13.2.1//NONSGML v1.0//EN
CALSCALE:GREGORIAN
METHOD:PUBLISH
X-WR-CALNAME:IMPACT Centre of Competence
X-ORIGINAL-URL:https://www.digitisation.eu
X-WR-CALDESC:Events for IMPACT Centre of Competence
REFRESH-INTERVAL;VALUE=DURATION:PT1H
X-Robots-Tag:noindex
X-PUBLISHED-TTL:PT1H
BEGIN:VTIMEZONE
TZID:Europe/Madrid
BEGIN:DAYLIGHT
TZOFFSETFROM:+0100
TZOFFSETTO:+0200
TZNAME:CEST
DTSTART:20160327T010000
END:DAYLIGHT
BEGIN:STANDARD
TZOFFSETFROM:+0200
TZOFFSETTO:+0100
TZNAME:CET
DTSTART:20161030T010000
END:STANDARD
BEGIN:DAYLIGHT
TZOFFSETFROM:+0100
TZOFFSETTO:+0200
TZNAME:CEST
DTSTART:20170326T010000
END:DAYLIGHT
BEGIN:STANDARD
TZOFFSETFROM:+0200
TZOFFSETTO:+0100
TZNAME:CET
DTSTART:20171029T010000
END:STANDARD
END:VTIMEZONE
BEGIN:VEVENT
DTSTART;VALUE=DATE:20171102
DTEND;VALUE=DATE:20171104
DTSTAMP:20260421T055503
CREATED:20171004T104726Z
LAST-MODIFIED:20171004T105308Z
UID:14515-1509580800-1509753599@www.digitisation.eu
SUMMARY:Transkribus User Conference
DESCRIPTION:[cs_content][cs_section parallax=”false” separator_top_type=”none” separator_top_height=”50px” separator_top_angle_point=”50″ separator_bottom_type=”none” separator_bottom_height=”50px” separator_bottom_angle_point=”50″ style=”margin: 0px;padding: 45px 0px;”][cs_row inner_container=”true” marginless_columns=”false” style=”margin: 0px auto;padding: 0px;”][cs_column fade=”false” fade_animation=”in” fade_animation_offset=”45px” fade_duration=”750″ type=”2/3″ style=”padding: 0px;”][x_image type=”none” src=”https://www.digitisation.eu/wp-content/uploads/2017/05/READ.png” alt=”” link=”false” href=”#” title=”” target=”” info=”none” info_place=”top” info_trigger=”hover” info_content=”” style=”width:35%;float: left;padding-right: 10px;”][cs_text]The Transkribus User Conference 2017 will take place at the Technical University Vienna on 2-3 November 2017. \nThe Transkribus User Conference will be a forum for new and more experienced users of our Transkribus platform to come together and learn more about possibilities for the automatic processing of handwritten historical documents.  What is more\, there will be lots of opportunities to give feedback to Transkribus developers and ask questions about how automated processing can work with your documents.[/cs_text][/cs_column][cs_column fade=”false” fade_animation=”in” fade_animation_offset=”45px” fade_duration=”750″ type=”1/3″ style=”padding: 0px;”][x_recent_posts type=”post” count=”4″ offset=”” category=”READ2017″ orientation=”horizontal” no_sticky=”true” no_image=”false” fade=”false”][/cs_column][/cs_row][/cs_section][/cs_content]
URL:https://www.digitisation.eu/event/transkribus-user-conference/
LOCATION:Technical University Vienna\, Getreidemarkt 9\, Wien\, 1060\, Austria
ORGANIZER;CN="READ":MAILTO:email@transkribus.eu
END:VEVENT
BEGIN:VEVENT
DTSTART;TZID=Europe/Madrid:20170905T120000
DTEND;TZID=Europe/Madrid:20170905T130000
DTSTAMP:20260421T055503
CREATED:20230706T112534Z
LAST-MODIFIED:20230707T172005Z
UID:18200-1504612800-1504616400@www.digitisation.eu
SUMMARY:Quality control in (mass) digitisation workflows
DESCRIPTION:Sesion lead\n\n\n\nMartina Hoffmann (Koninklijke Bibliotheek) \n\n\n\nDescription\n\n\n\nDigitisation of cultural heritage is big business nowadays and the possibilities seem endless – But how do we actually get what we ask for? And how can we assess if we get what we ask for? QA workflows in times of mass rapid ex- or internal digitisation emerge and the necessity becomes more and more obvious. How to set up a QA workflow in mass digitisation and what are the ingredients for it will be shown on a business case of the Netherlands Metamorfoze A&C. \n\n\n\nRecording
URL:https://www.digitisation.eu/event/quality-control-in-mass-digitisation-workflows-martina-hoffmann-koninklijke-bibliotheek/
CATEGORIES:IMPACT Webinars
END:VEVENT
BEGIN:VEVENT
DTSTART;VALUE=DATE:20170819
DTEND;VALUE=DATE:20170826
DTSTAMP:20260421T055503
CREATED:20170720T113155Z
LAST-MODIFIED:20250725T233145Z
UID:14310-1503100800-1503705599@www.digitisation.eu
SUMMARY:IFLA WLIC 2017
DESCRIPTION:[cs_content][cs_section parallax=”false” separator_top_type=”none” separator_top_height=”50px” separator_top_angle_point=”50″ separator_bottom_type=”none” separator_bottom_height=”50px” separator_bottom_angle_point=”50″ style=”margin: 0px;padding: 45px 0px;”][cs_row inner_container=”true” marginless_columns=”false” style=”margin: 0px auto;padding: 0px;”][cs_column fade=”false” fade_animation=”in” fade_animation_offset=”45px” fade_duration=”750″ type=”2/3″ style=”padding: 0px;”][x_image type=”none” src=”https://www.digitisation.eu/wp-content/uploads/2017/07/Logo_IFLA_Wroclaw_CMYK.jpg” alt=”IFLA WLIC 2017″ link=”false” href=”#” title=”” target=”” info=”none” info_place=”top” info_trigger=”hover” info_content=”” style=”width:30%;float:left;padding-right:10px;”][cs_text]IFLA WLIC is the annual congress of the International Federation of Libraries Association. \nThis year\, the conference takes place on 19-25 August\, in Wroclaw\, Poland. \nOn 21st and 22nd\, between 12:00 and 14:00. Elisabeth Freyre\, BnF\, will present our poster. \nFor further information on the conference\, please visit https://2017.ifla.org/. [/cs_text][/cs_column][cs_column fade=”false” fade_animation=”in” fade_animation_offset=”45px” fade_duration=”750″ type=”1/3″ style=”padding: 0px;”][x_recent_posts type=”post” count=”3″ offset=”” category=”IFLA2017″ orientation=”vertical” no_sticky=”true” no_image=”false” fade=”false”][/cs_column][/cs_row][/cs_section][/cs_content]
URL:https://www.digitisation.eu/event/ifla-wlic-2017/
LOCATION:Centennial Hall\, Wroclaw\, Wroclaw\, Poland
END:VEVENT
BEGIN:VEVENT
DTSTART;VALUE=DATE:20170816
DTEND;VALUE=DATE:20170819
DTSTAMP:20260421T055503
CREATED:20170509T154407Z
LAST-MODIFIED:20170720T114723Z
UID:11570-1502841600-1503100799@www.digitisation.eu
SUMMARY:2017 IFLA News Media Satellite Conference\, Extension of CfP
DESCRIPTION:[cs_content][cs_section parallax=”false” separator_top_type=”none” separator_top_height=”50px” separator_top_angle_point=”50″ separator_bottom_type=”none” separator_bottom_height=”50px” separator_bottom_angle_point=”50″ style=”margin: 0px;padding: 0;”][cs_row inner_container=”true” marginless_columns=”false” style=”margin: 0px auto;padding: 0px;”][cs_column fade=”false” fade_animation=”in” fade_animation_offset=”45px” fade_duration=”750″ type=”2/3″ style=”padding: 0px;”][x_image type=”none” src=”https://www.digitisation.eu/wp-content/uploads/2017/03/Logo_IFLA.fw_067165a692bdaad65c129953f34464c4.png” alt=”IFLA 2017″ link=”false” href=”#” title=”” target=”” info=”none” info_place=”top” info_trigger=”hover” info_content=”” style=”width:20%;float:left;padding-right:10px;”][cs_text] \nRelying on News Media. Long Term Preservation and Perspectives for Our Collective Memory \nThe conference will take place on 16-18 August\, 2017 at SLUB Dresden and is organised by IFLA News Media Section \n[/cs_text][x_custom_headline level=”h3″ looks_like=”h5″ accent=”false” style=”margin-top:0;”]Important Dates 2017[/x_custom_headline][cs_icon_list][cs_icon_list_item title=”31 March: Proposal abstracts due” type=”check” link_enabled=”false” link_url=”#” link_new_tab=”false”]31 March: Proposal abstracts due[/cs_icon_list_item][cs_icon_list_item title=”24 March: Acceptance notices sent to authors” type=”check” link_enabled=”false” link_url=”#” link_new_tab=”false”]24 March: Acceptance notices sent to authors[/cs_icon_list_item][cs_icon_list_item title=”30 June: Completed papers and presentations submitted” type=”check” link_enabled=”false” link_url=”#” link_new_tab=”false”]30 June: Completed papers and presentations submitted[/cs_icon_list_item][cs_icon_list_item title=”16-17 August: Conference” type=”check” link_enabled=”false” link_url=”#” link_new_tab=”false”]16-17 August: Conference[/cs_icon_list_item][cs_icon_list_item title=”18 August: “Social Event: Saxon Flair and baroque places: Dresden\, Meissen\, Moritzburg”” type=”check” link_enabled=”false” link_url=”#” link_new_tab=”false”]18 August: “Social Event: Saxon Flair and baroque places: Dresden\, Meissen\, Moritzburg”[/cs_icon_list_item][/cs_icon_list][/cs_column][cs_column fade=”false” fade_animation=”in” fade_animation_offset=”45px” fade_duration=”750″ type=”1/3″ style=”padding: 0px;”][x_recent_posts type=”post” count=”2″ offset=”” category=”IFLA2017″ orientation=”vertical” no_sticky=”true” no_image=”false” fade=”false”][/cs_column][/cs_row][/cs_section][/cs_content]
URL:https://www.digitisation.eu/event/2017-ifla-news-media-satellite-conference-extension-of-cfp/
LOCATION:SLUB Dresden\, Moritzburg\, Distrito de Meißen\, Dresden\, German\, Dresden\, Germany
CATEGORIES:Events
END:VEVENT
BEGIN:VEVENT
DTSTART;VALUE=DATE:20170601
DTEND;VALUE=DATE:20170603
DTSTAMP:20260421T055503
CREATED:20170531T220000Z
LAST-MODIFIED:20170510T142002Z
UID:11571-1496275200-1496447999@www.digitisation.eu
SUMMARY:Digitisation Days & DATeCH Call for Sponsorship
DESCRIPTION:[cs_content][cs_section parallax=”false” separator_top_type=”none” separator_top_height=”50px” separator_top_angle_point=”50″ separator_bottom_type=”none” separator_bottom_height=”50px” separator_bottom_angle_point=”50″ style=”margin: 0px;padding: -45px 0px 0;”][cs_row inner_container=”true” marginless_columns=”false” style=”margin: 0px auto;padding: 0px;”][cs_column fade=”false” fade_animation=”in” fade_animation_offset=”45px” fade_duration=”750″ type=”1/2″ style=”padding: 0px;”][cs_text] \nThe IMPACT Centre of Competence is organising together with the University of Göttingen a new edition of the Digitisation Days and the DATeCH International Conference\, in Göttingen on 1-2 June\, 2017. \n[/cs_text][cs_block_grid type=”two-up”][cs_block_grid_item title=”Block Grid Item 1″][x_image type=”none” float=”none” src=”https://www.digitisation.eu/wp-content/uploads/2016/10/DDays_logo_021.png” alt=”DigitisationDays” info=”none” info_place=”top” info_trigger=”hover”][/cs_block_grid_item][cs_block_grid_item title=”Block Grid Item 2″][x_image type=”none” float=”none” src=”https://www.digitisation.eu/wp-content/uploads/2016/10/DATeCH15.png” alt=”DATeCH15″ info=”none” info_place=”top” info_trigger=”hover”][/cs_block_grid_item][/cs_block_grid][cs_text]For further information\, please visit http://ddays.digitisation.eu.[/cs_text][x_custom_headline level=”h2″ looks_like=”h3″ accent=”false” class=”cs-ta-left” style=”margin-bottom:1em;”]Important Dates[/x_custom_headline][cs_icon_list][cs_icon_list_item title=”13 January 2017 – Abstract submission deadline” type=”check” link_enabled=”false” link_url=”#” link_new_tab=”false”]13 January 2017 – Abstract submission deadline[/cs_icon_list_item][cs_icon_list_item title=”20 January 2017 – Paper submission deadline” type=”check” link_enabled=”false” link_url=”#” link_new_tab=”false”]20 January 2017 – Paper submission deadline[/cs_icon_list_item][cs_icon_list_item title=”28 February 2017 – Decision notification” type=”check” link_enabled=”false” link_url=”#” link_new_tab=”false”]28 February 2017 – Decision notification[/cs_icon_list_item][cs_icon_list_item title=”31 March 2017 – Camera-ready papers due” type=”check” link_enabled=”false” link_url=”#” link_new_tab=”false”]31 March 2017 – Camera-ready papers due[/cs_icon_list_item][cs_icon_list_item title=”1-2 June 2017 – Conference” type=”check” link_enabled=”false” link_url=”#” link_new_tab=”false”]1-2 June 2017 – Conference[/cs_icon_list_item][/cs_icon_list][/cs_column][cs_column fade=”false” fade_animation=”in” fade_animation_offset=”45px” fade_duration=”750″ type=”1/2″ style=”padding: 0px;”][x_custom_headline level=”h2″ looks_like=”h3″ accent=”false” style=”margin-top:0;margin-bottom:1em;”]Last news about this event[/x_custom_headline][x_recent_posts type=”post” count=”4″ offset=”” category=”DATeCH” orientation=”vertical” no_sticky=”true” no_image=”true” fade=”false”][x_button type=”real” shape=”square” size=”small” block=”false” circle=”false” icon_only=”false” href=”#” title=”” target=”” info=”none” info_place=”top” info_trigger=”hover” info_content=””][x_icon type=”hand-o-up” class=”mvn mln mrs”]Suscribe newsletter![/x_button][/cs_column][/cs_row][cs_row inner_container=”true” marginless_columns=”false” style=”margin: 0px auto;padding: 0px;”][cs_column fade=”false” fade_animation=”in” fade_animation_offset=”45px” fade_duration=”750″ type=”1/1″ style=”padding: 0px;”][cs_text] \nWe are offering companies the opportunity to join us as sponsors with three different levels:\n[/cs_text][/cs_column][/cs_row][cs_row inner_container=”false” marginless_columns=”true” style=”margin: 20px auto;padding: 0px;”][cs_column bg_color=”hsl(0\, 0%\, 93%)” fade=”false” fade_animation=”in” fade_animation_offset=”45px” fade_duration=”750″ type=”1/3″ style=”padding: 0 20px 20px;”][x_custom_headline level=”h2″ looks_like=”h2″ accent=”false” style=”margin-top:1em;margin-bottom:1em;font-size:150%;”]Gold Partner[/x_custom_headline][cs_text] \n\nMember of Impact Centre: 3000€\nNo member of Impact Centre: 4000€\n\nWe offer: \n\nA 10-minute commercial presentation during the DATeCH conference sessions.\nA stand at the place where coffee breaks and lunch will be served\, so all attendees will be present.\nIdentification as sponsor on the conference communication (web site\, programme document\, etc.)\nThe company documentation to be included in the attendees’ folder (the documentation has to be sent printed to SUB Uni Göttingen* at least 2 weeks before the conference\, that is\, by May 15th).\nAccess to printed attendees list (with institutions names).\n\n[/cs_text][/cs_column][cs_column bg_color=”hsl(0\, 0%\, 97%)” fade=”false” fade_animation=”in” fade_animation_offset=”45px” fade_duration=”750″ type=”1/3″ style=”padding: 0 20px 10px;”][x_custom_headline level=”h2″ looks_like=”h3″ accent=”false” style=”margin-top:1em;margin-bottom:1em;font-size:150%;”]Silver Partner[/x_custom_headline][cs_text] \n\nMember of Impact Centre: 2500€\nNo member of Impact Centre: 3500€\n\nWe offer: \n\nA stand at the place where coffee breaks and lunch will be served\, so all attendees will be present.\nIdentification as sponsor on the conference communication (web site\, programme document\, etc.)\nThe company documentation to be included in the attendees’ folder (the documentation has to be sent printed to SUB Uni Göttingen* at least 2 weeks before the conference\, that is\, by May 15th).\nAccess to printed attendees list (with institutions names).\n\n[/cs_text][/cs_column][cs_column bg_color=”hsl(0\, 0%\, 93%)” fade=”false” fade_animation=”in” fade_animation_offset=”45px” fade_duration=”750″ type=”1/3″ style=”padding: 0 20px 20px;”][x_custom_headline level=”h2″ looks_like=”h3″ accent=”false” style=”margin-top:1em;margin-bottom:1em;font-size:150%;”]Bronze Partner[/x_custom_headline][cs_text] \n\nMember of Impact Centre: 1000€\nNo member of Impact Centre: 2000€\n\nWe offer: \n\nIdentification as sponsor on the conference communication (web site\, programme document\, etc.)\nThe company documentation to be included in the attendees’ folder (the documentation has to be sent printed to SUB Uni Göttingen* at least 2 weeks before the conference\, that is\, by May 15th).\nAccess to printed attendees list (with institutions names).\n\n[/cs_text][/cs_column][/cs_row][cs_row inner_container=”true” marginless_columns=”false” style=”margin: 0px auto;padding: 0px;”][cs_column fade=”false” fade_animation=”in” fade_animation_offset=”45px” fade_duration=”750″ type=”1/1″ style=”padding: 0px;”][cs_text]The call for sponsorship will be open until April 10th\, don’t miss your opportunity to showcase your products and services to the most important CH institutions. The last edition of the DDays was attended by over 180 people coming from the main institutions of CH\, European policy makers and other personalities.[/cs_text][/cs_column][/cs_row][/cs_section][cs_section parallax=”false” separator_top_type=”none” separator_top_height=”50px” separator_top_angle_point=”50″ separator_bottom_type=”none” separator_bottom_height=”50px” separator_bottom_angle_point=”50″ style=”margin: 0px;padding: 0;”][cs_row inner_container=”true” marginless_columns=”false” style=”margin: 0px auto;padding: 0px;”][cs_column fade=”false” fade_animation=”in” fade_animation_offset=”45px” fade_duration=”750″ type=”1/1″ style=”padding: 0px;”][x_prompt type=”left” title=”Become IMPACT member” message=”This is where the main content for your Prompt can go.” button_text=”Join us!” button_icon=”hand-o-up” circle=”false” href=”/about/join-us/” href_title=”” target=””][/cs_column][/cs_row][/cs_section][/cs_content]
URL:https://www.digitisation.eu/event/digitisation-days-datech-call-for-sponsorship/
LOCATION:University of Göttingen\, University of Göttingen\, Göttingen\, Germany
CATEGORIES:Events
END:VEVENT
BEGIN:VEVENT
DTSTART;TZID=Europe/Madrid:20170419T120000
DTEND;TZID=Europe/Madrid:20170419T130000
DTSTAMP:20260421T055503
CREATED:20230706T112734Z
LAST-MODIFIED:20230707T172057Z
UID:18202-1492603200-1492606800@www.digitisation.eu
SUMMARY:Digitisation at the BnF: Introduction to an experience and a workflow
DESCRIPTION:Sesion lead\n\n\n\nJean-Baptiste Vaisman and Jean-Philippe Moreux (Bibliothèque nationale de France) \n\n\n\nDescription\n\n\n\nThe webinar will present the large experience of the BnF in mass digitisation and digitisation processes (OCR\, digital archiving\, …). The BnF also offers access to its digital library Gallica obtained through the library’s commitment to the digitisation of selected items of its collections. Gallica now contains over 3\,5 million digitised documents: manuscripts\, sound materials and music score\, books\, images and newspapers issues\, in French and other languages. They cover all domains of knowledge\, with a specific focus in literature and history.Together with these collections\, all in public domain\, Gallica gives access to digitised documents belonging to French partner libraries as well as a set of copyrighted documents in collaboration with the French Publishers Association\, some publishers and e-retailers. \n\n\n\nRecording
URL:https://www.digitisation.eu/event/digitisation-at-the-bnf-introduction-to-an-experience-and-a-workflow-jean-baptiste-vaisman-and-jean-philippe-moreux/
CATEGORIES:IMPACT Webinars
END:VEVENT
BEGIN:VEVENT
DTSTART;TZID=Europe/Madrid:20161214T103000
DTEND;TZID=Europe/Madrid:20161214T113000
DTSTAMP:20260421T055503
CREATED:20230706T112957Z
LAST-MODIFIED:20230707T172132Z
UID:18204-1481711400-1481715000@www.digitisation.eu
SUMMARY:Digitisation at the British Library: Introduction to business models and processes
DESCRIPTION:Sesion lead\n\n\n\nRossitza Atanassova (The British Library) \n\n\n\nDescription\n\n\n\nThe British Library has a large digitisation portfolio and currently there are about 25 initiatives at the British Library which vary in terms of scale\, funding models and process. Digitisation is delivered both internally and through partnerships and the Library has been investing in infrastructure and business process developments. The presentation will explain the processes in place for planning and delivery of internal digitisation projects\, including standards and technical developments to support ingest and access to digitised content via the Universal Viewer. It will also highlight some of the digitisation partnerships with culture heritage institutions and commercial companies. \n\n\n\nRecording
URL:https://www.digitisation.eu/event/digitisation-at-the-british-library-introduction-to-business-models-and-processes-rossitza-atanassova-the-british-library/
CATEGORIES:IMPACT Webinars
END:VEVENT
END:VCALENDAR