BEGIN:VCALENDAR
VERSION:2.0
PRODID:-//IMPACT Centre of Competence - ECPv6.13.2.1//NONSGML v1.0//EN
CALSCALE:GREGORIAN
METHOD:PUBLISH
X-WR-CALNAME:IMPACT Centre of Competence
X-ORIGINAL-URL:https://www.digitisation.eu
X-WR-CALDESC:Events for IMPACT Centre of Competence
REFRESH-INTERVAL;VALUE=DURATION:PT1H
X-Robots-Tag:noindex
X-PUBLISHED-TTL:PT1H
BEGIN:VTIMEZONE
TZID:Europe/Madrid
BEGIN:DAYLIGHT
TZOFFSETFROM:+0100
TZOFFSETTO:+0200
TZNAME:CEST
DTSTART:20240331T010000
END:DAYLIGHT
BEGIN:STANDARD
TZOFFSETFROM:+0200
TZOFFSETTO:+0100
TZNAME:CET
DTSTART:20241027T010000
END:STANDARD
END:VTIMEZONE
BEGIN:VEVENT
DTSTART;TZID=Europe/Madrid:20240707T000000
DTEND;TZID=Europe/Madrid:20240710T235959
DTSTAMP:20260421T054845
CREATED:20231215T093515Z
LAST-MODIFIED:20231215T093517Z
UID:19346-1720310400-1720655999@www.digitisation.eu
SUMMARY:TALC2024 - 16th Teaching and Language Corpora Conference
DESCRIPTION:The 16th Teaching and Language Corpora Conference will take place at the Manchester Metropolitan University\, hosted by the Department of Languages\, Information and Communications and the Manchester Centre for Research in Linguistics at the Manchester Metropolitan University Business School.
URL:https://www.digitisation.eu/event/talc2024-16th-teaching-and-language-corpora-conference/
LOCATION:Manchester Centre for Research in Linguistics\, Manchester\, United Kingdom
CATEGORIES:conference
ATTACH;FMTTYPE=image/jpeg:https://www.digitisation.eu/wp-content/uploads/2023/12/cropped-cropped-talc2024-2.jpeg
END:VEVENT
BEGIN:VEVENT
DTSTART;TZID=Europe/Madrid:20240715T000000
DTEND;TZID=Europe/Madrid:20240719T235959
DTSTAMP:20260421T054845
CREATED:20231215T103011Z
LAST-MODIFIED:20231215T103016Z
UID:19463-1721001600-1721433599@www.digitisation.eu
SUMMARY:DeepLearn 202411th INTERNATIONAL SCHOOL ON DEEP LEARNING (and the future of AI)
DESCRIPTION:DeepLearn 2024 will be a research training event with a global scope aiming at updating participants on the most recent advances in the critical and fast developing area of deep learning.
URL:https://www.digitisation.eu/event/deeplearn-202411th-international-school-on-deep-learning-and-the-future-of-ai/
LOCATION:Maia\, Porto\, Portugal
CATEGORIES:training school
ATTACH;FMTTYPE=image/png:https://www.digitisation.eu/wp-content/uploads/2023/12/logo-deeplearn2023-black.png
END:VEVENT
BEGIN:VEVENT
DTSTART;TZID=Europe/Madrid:20240715T000000
DTEND;TZID=Europe/Madrid:20240726T235959
DTSTAMP:20260421T054845
CREATED:20231215T094820Z
LAST-MODIFIED:20231215T094823Z
UID:19381-1721001600-1722038399@www.digitisation.eu
SUMMARY:ESSAI 2024 - The 2nd European Summer School in Artificial Intelligence
DESCRIPTION:The European Summer School on Artificial Intelligence (ESSAI) is the premier school on Artificial Intelligence in Europe. It is organized every year by the European Association for Artificial Intelligence (EurAI) together with the Advanced Course on Artificial Intelligence (ACAI). ESSAI & ACAI 2024 will take place in Athens\, Greece for two weeks (July 15 to July 26\, 2024). It will be organized by the Artificial Intelligence Team of the Dept. of Informatics and Telecommunications of the National and Kapodistrian University of Athens\, in collaboration with the Hellenic Artificial Intelligence Society. ESSAI 2024 will offer many courses covering all areas of Artificial Intelligence and being taught by top experts in the field. Every course will consist of 5 lectures of 90 minutes each spread over one week. The courses will be solicited through an open call for proposals and will be selected by an international program committee. ACAI 2024 will offer invited tutorials (of 2x90min each) on a topic to be announced.
URL:https://www.digitisation.eu/event/essai-2024-the-2nd-european-summer-school-in-artificial-intelligence/
LOCATION:Athens University\, Athens\, Greece
CATEGORIES:summer school
ATTACH;FMTTYPE=image/png:https://www.digitisation.eu/wp-content/uploads/2023/12/logo1.png
END:VEVENT
BEGIN:VEVENT
DTSTART;TZID=Europe/Madrid:20240715T000000
DTEND;TZID=Europe/Madrid:20240726T235959
DTSTAMP:20260421T054845
CREATED:20231215T102620Z
LAST-MODIFIED:20231215T102622Z
UID:19456-1721001600-1722038399@www.digitisation.eu
SUMMARY:ESU - European Summer University in DH “Culture & Technology”
DESCRIPTION:The Summer School seeks to offer a space for the discussion and acquisition of new knowledge\, skills and competences in those computer technologies which play a central role in Humanities Computing – with an accent on “Humanities”.
URL:https://www.digitisation.eu/event/esu-european-summer-university-in-dh-culture-technology/
LOCATION:Cluj\, Cluj\, Romania
CATEGORIES:summer school
ATTACH;FMTTYPE=image/png:https://www.digitisation.eu/wp-content/uploads/2023/12/esu2024-logo-503x500-1.png
END:VEVENT
BEGIN:VEVENT
DTSTART;TZID=Europe/Madrid:20240716T000000
DTEND;TZID=Europe/Madrid:20240717T235959
DTSTAMP:20260421T054845
CREATED:20231215T093223Z
LAST-MODIFIED:20231215T093225Z
UID:19339-1721088000-1721260799@www.digitisation.eu
SUMMARY:IVACS - The 11th Inter-Varietal Applied Corpus Studies Biennial Conference
DESCRIPTION:The 11th IVACS Conference will take place in Cambridge\, U.K. on Tuesday 16th and Wednesday 17th July 2024.
URL:https://www.digitisation.eu/event/ivacs-the-11th-inter-varietal-applied-corpus-studies-biennial-conference/
LOCATION:University of Cambridge\, Cambridge\, United Kingdom
CATEGORIES:conference
ATTACH;FMTTYPE=image/jpeg:https://www.digitisation.eu/wp-content/uploads/2023/12/GBE2U4tWsAA8w8X.jpg
END:VEVENT
BEGIN:VEVENT
DTSTART;TZID=Europe/Madrid:20240729T000000
DTEND;TZID=Europe/Madrid:20240809T235959
DTSTAMP:20260421T054845
CREATED:20231215T091127Z
LAST-MODIFIED:20231215T092022Z
UID:19273-1722211200-1723247999@www.digitisation.eu
SUMMARY:ESSLLI - 35th EU Summer School in Logic\, Language and Information
DESCRIPTION:The European Summer School in Logic\, Language and Information (ESSLLI) is a yearly recurring event\, which has been organized since 1989. An ESSLLI Summer School provides an interdisciplinary setting in which courses and workshops are offered in logic\, linguistics and computer science. Courses (foundational\, introductory and advanced) and workshops cover a wide variety of topics within three interdisciplinary areas of interest: language and computation\, logic and language\, and logic and computation. In addition to the workshops and courses there are usually four evening lectures\, given by prominent researchers\, on topics that are at the forefront of research in logic\, language and computer science\, also from wider scientific\, historical\, and philosophical perspectives. Its relevance to students of artificial intelligence is evident.
URL:https://www.digitisation.eu/event/esslli-35th-eu-summer-school-in-logic-language-and-information/
LOCATION:Leuven\, Leuven\, Belgium
CATEGORIES:summer school
ATTACH;FMTTYPE=image/png:https://www.digitisation.eu/wp-content/uploads/2023/12/esslli2024_wide.png
END:VEVENT
BEGIN:VEVENT
DTSTART;TZID=Europe/Madrid:20240806T000000
DTEND;TZID=Europe/Madrid:20240809T235959
DTSTAMP:20260421T054845
CREATED:20231215T091419Z
LAST-MODIFIED:20231215T091421Z
UID:19291-1722902400-1723247999@www.digitisation.eu
SUMMARY:DH2024 / ADHO
DESCRIPTION:DH 2024 is the annual conference of the Alliance of Digital Humanities Organizations. The Roy Rosenzweig Center for History and New Media is excited to welcome you online and in person at our Arlington\, VA campus\, in the suburbs of Washington\, D.C.\, from August 6-9\, 2024 for DH 2024: Reinvention & Responsibility.
URL:https://www.digitisation.eu/event/dh2024-adho/
LOCATION:George Mason University\, Arlington\, Virginia\, United States
CATEGORIES:conference
ATTACH;FMTTYPE=image/png:https://www.digitisation.eu/wp-content/uploads/2023/12/DH24-Logo-Design.png
END:VEVENT
BEGIN:VEVENT
DTSTART;TZID=Europe/Madrid:20240904T000000
DTEND;TZID=Europe/Madrid:20240905T235959
DTSTAMP:20260421T054845
CREATED:20231215T095132Z
LAST-MODIFIED:20231215T095134Z
UID:19388-1725408000-1725580799@www.digitisation.eu
SUMMARY:DH Congress
DESCRIPTION:The Digital Humanities Congress is a conference held in Sheffield every two years. Its purpose is to promote the sharing of knowledge\, ideas and techniques within the digital humanities. \n\n\n\nDigital humanities is understood by Sheffield to mean the use of technology within arts\, heritage and humanities research as both a method of inquiry and a means of dissemination. As such\, proposals related to all disciplines within the arts\, humanities and heritage domains are welcome. \n\n\n\nThe conference will take place at the University’s refurbished conference facility\, The Edge.
URL:https://www.digitisation.eu/event/dh-congress/
LOCATION:University of Sheffield\, Sheffield\, United Kingdom
CATEGORIES:conference
ATTACH;FMTTYPE=image/jpeg:https://www.digitisation.eu/wp-content/uploads/2023/12/68-liPcW_400x400.jpg
END:VEVENT
BEGIN:VEVENT
DTSTART;TZID=Europe/Madrid:20240926T000000
DTEND;TZID=Europe/Madrid:20240928T235959
DTSTAMP:20260421T054845
CREATED:20231215T094220Z
LAST-MODIFIED:20231215T094223Z
UID:19367-1727308800-1727567999@www.digitisation.eu
SUMMARY:LCR - Learner Corpus Research Conference
DESCRIPTION:The international conference for Learner Corpus Research (LCR) is organised under the aegis of the Learner Corpus Association\, which brings together researchers\, language instructors and software developers with a common interest in the use of learner corpora for research on second language acquisition\, as well as for the enhancement of language pedagogy and language assessment. \n\n\n\nThe conference takes place every two years\, next one being LCR 2024 held at the University of Tartu (Estonia) at the Institute of Foreign Languages and Cultures and the Institute of Estonian and General Linguistics. \n\n\n\nLCR 2024 in Tartu aims to provide a forum for discussion and presentation of latest research by offering LCA members and other researchers in the field of Learner Corpus research a chance to meet up\, introduce their latest ideas and findings and establish new contacts\, get novel perspectives and find new tools to enhance their research potential\, as well as international cooperation.
URL:https://www.digitisation.eu/event/lcr-learner-corpus-research-conference/
LOCATION:Tartu\, Tartu\, Estonia
CATEGORIES:conference
ATTACH;FMTTYPE=image/jpeg:https://www.digitisation.eu/wp-content/uploads/2023/12/descarga.jpeg
END:VEVENT
END:VCALENDAR