BEGIN:VCALENDAR
VERSION:2.0
PRODID:-//IMPACT Centre of Competence - ECPv6.13.2.1//NONSGML v1.0//EN
CALSCALE:GREGORIAN
METHOD:PUBLISH
X-WR-CALNAME:IMPACT Centre of Competence
X-ORIGINAL-URL:https://www.digitisation.eu
X-WR-CALDESC:Events for IMPACT Centre of Competence
REFRESH-INTERVAL;VALUE=DURATION:PT1H
X-Robots-Tag:noindex
X-PUBLISHED-TTL:PT1H
BEGIN:VTIMEZONE
TZID:Europe/Madrid
BEGIN:DAYLIGHT
TZOFFSETFROM:+0100
TZOFFSETTO:+0200
TZNAME:CEST
DTSTART:20240331T010000
END:DAYLIGHT
BEGIN:STANDARD
TZOFFSETFROM:+0200
TZOFFSETTO:+0100
TZNAME:CET
DTSTART:20241027T010000
END:STANDARD
END:VTIMEZONE
BEGIN:VEVENT
DTSTART;TZID=Europe/Madrid:20240320T000000
DTEND;TZID=Europe/Madrid:20240321T235959
DTSTAMP:20260420T121203
CREATED:20231215T091714Z
LAST-MODIFIED:20231215T092131Z
UID:19298-1710892800-1711065599@www.digitisation.eu
SUMMARY:International FAIR Digital Objects Implementation Forum
DESCRIPTION:“FAIR Digital Objects (FDO) provide a conceptual and implementation framework to develop scalable cross-disciplinary capabilities\, deal with the increasing data volumes and their inherent complexity\, build tools that help to increase trust in data\, create mechanisms to efficiently operate in the domain of scientific assertions\, and promote data interoperability.” https://fairdo.org/ \n\n\n\nAfter a successful 1st International FAIR Digital Object (FDO) Conference in Leiden\, the FDO Forum will host an FDO Implementation Summit in March 2024 in Berlin\, Germany. The venue of this Implementation summit is the Museum für Naturkunde Berlin\, Leibniz Institute for Evolution and Biodiversity Science\, right in the city centre of the German capital.
URL:https://www.digitisation.eu/event/international-fair-digital-objects-implementation-forum/
LOCATION:Berlin\, Berlin
CATEGORIES:forum
ATTACH;FMTTYPE=image/png:https://www.digitisation.eu/wp-content/uploads/2023/12/FAIRDOFORUM-logo.png
END:VEVENT
END:VCALENDAR