BEGIN:VCALENDAR
VERSION:2.0
PRODID:-//IMPACT Centre of Competence - ECPv6.13.2.1//NONSGML v1.0//EN
CALSCALE:GREGORIAN
METHOD:PUBLISH
X-WR-CALNAME:IMPACT Centre of Competence
X-ORIGINAL-URL:https://www.digitisation.eu
X-WR-CALDESC:Events for IMPACT Centre of Competence
REFRESH-INTERVAL;VALUE=DURATION:PT1H
X-Robots-Tag:noindex
X-PUBLISHED-TTL:PT1H
BEGIN:VTIMEZONE
TZID:Europe/Madrid
BEGIN:DAYLIGHT
TZOFFSETFROM:+0100
TZOFFSETTO:+0200
TZNAME:CEST
DTSTART:20200329T010000
END:DAYLIGHT
BEGIN:STANDARD
TZOFFSETFROM:+0200
TZOFFSETTO:+0100
TZNAME:CET
DTSTART:20201025T010000
END:STANDARD
END:VTIMEZONE
BEGIN:VEVENT
DTSTART;VALUE=DATE:20200908
DTEND;VALUE=DATE:20200913
DTSTAMP:20260424T050604
CREATED:20191217T142309Z
LAST-MODIFIED:20191217T142507Z
UID:15680-1599523200-1599955199@www.digitisation.eu
SUMMARY:EURALEX2020
DESCRIPTION:The XIX EURALEX International Congress will be held in Alexandroupolis\, Greece\, on 8-12 September\, 2020. The Conference is organised by SynMorPhoSe Lab of the Department of Greek Philology at the Democritus University of Thrace. The main topic this edition is “Lexicography for Inclusion”.
URL:https://www.digitisation.eu/event/euralex2020/
LOCATION:Ramada Plaza Thraki\, 4th klm National Road\, Alexandroupolis\, Thessaloniki\, Greece
ATTACH;FMTTYPE=image/png:https://www.digitisation.eu/wp-content/uploads/2019/12/EURALEX2019_ShortLogo_Landscape_GrayRed_EN.png
END:VEVENT
END:VCALENDAR