BEGIN:VCALENDAR
VERSION:2.0
PRODID:-//IMPACT Centre of Competence - ECPv6.13.2.1//NONSGML v1.0//EN
CALSCALE:GREGORIAN
METHOD:PUBLISH
X-WR-CALNAME:IMPACT Centre of Competence
X-ORIGINAL-URL:https://www.digitisation.eu
X-WR-CALDESC:Events for IMPACT Centre of Competence
REFRESH-INTERVAL;VALUE=DURATION:PT1H
X-Robots-Tag:noindex
X-PUBLISHED-TTL:PT1H
BEGIN:VTIMEZONE
TZID:Europe/Madrid
BEGIN:DAYLIGHT
TZOFFSETFROM:+0100
TZOFFSETTO:+0200
TZNAME:CEST
DTSTART:20200329T010000
END:DAYLIGHT
BEGIN:STANDARD
TZOFFSETFROM:+0200
TZOFFSETTO:+0100
TZNAME:CET
DTSTART:20201025T010000
END:STANDARD
END:VTIMEZONE
BEGIN:VEVENT
DTSTART;VALUE=DATE:20200711
DTEND;VALUE=DATE:20200714
DTSTAMP:20260424T083329
CREATED:20191217T145341Z
LAST-MODIFIED:20191217T145456Z
UID:15686-1594425600-1594684799@www.digitisation.eu
SUMMARY:ICNLP2020
DESCRIPTION:The 2nd International Conference on Natural Language Processing will be held at Guangdong University of Technology\, in Guangzhou\, China\, on 11-13 July\, 2020.
URL:https://www.digitisation.eu/event/icnlp2020/
LOCATION:Guangdong University of Technology\, No. 100 Waihuan Xi Road\, Guangzhou\, 510006\, China
ATTACH;FMTTYPE=image/png:https://www.digitisation.eu/wp-content/uploads/2019/12/icnlp.png
END:VEVENT
END:VCALENDAR