BEGIN:VCALENDAR
VERSION:2.0
PRODID:-//IMPACT Centre of Competence - ECPv6.13.2.1//NONSGML v1.0//EN
CALSCALE:GREGORIAN
METHOD:PUBLISH
X-WR-CALNAME:IMPACT Centre of Competence
X-ORIGINAL-URL:https://www.digitisation.eu
X-WR-CALDESC:Events for IMPACT Centre of Competence
REFRESH-INTERVAL;VALUE=DURATION:PT1H
X-Robots-Tag:noindex
X-PUBLISHED-TTL:PT1H
BEGIN:VTIMEZONE
TZID:Europe/Madrid
BEGIN:DAYLIGHT
TZOFFSETFROM:+0100
TZOFFSETTO:+0200
TZNAME:CEST
DTSTART:20200329T010000
END:DAYLIGHT
BEGIN:STANDARD
TZOFFSETFROM:+0200
TZOFFSETTO:+0100
TZNAME:CET
DTSTART:20201025T010000
END:STANDARD
END:VTIMEZONE
BEGIN:VEVENT
DTSTART;TZID=Europe/Madrid:20200511T080000
DTEND;TZID=Europe/Madrid:20200516T170000
DTSTAMP:20260424T120617
CREATED:20191217T140021Z
LAST-MODIFIED:20191217T140021Z
UID:15676-1589184000-1589648400@www.digitisation.eu
SUMMARY:LREC2020
DESCRIPTION:The 12th Edition of the Language Resources and Evaluation Conference will be held in Marseille on 11-16 May\, 2020\, and is organised by the European Language Resources Association
URL:https://www.digitisation.eu/event/lrec2020/
LOCATION:Palais du Pharo\, 58 Boulevard Charles Livon\, Marseille\, 13007\, France
ATTACH;FMTTYPE=image/png:https://www.digitisation.eu/wp-content/uploads/2019/12/elra.png
ORGANIZER;CN="European Language Resource Association":MAILTO:info@elda.org
END:VEVENT
END:VCALENDAR