BEGIN:VCALENDAR
VERSION:2.0
PRODID:-//IMPACT Centre of Competence - ECPv6.13.2.1//NONSGML v1.0//EN
CALSCALE:GREGORIAN
METHOD:PUBLISH
X-WR-CALNAME:IMPACT Centre of Competence
X-ORIGINAL-URL:https://www.digitisation.eu
X-WR-CALDESC:Events for IMPACT Centre of Competence
REFRESH-INTERVAL;VALUE=DURATION:PT1H
X-Robots-Tag:noindex
X-PUBLISHED-TTL:PT1H
BEGIN:VTIMEZONE
TZID:Europe/Madrid
BEGIN:DAYLIGHT
TZOFFSETFROM:+0100
TZOFFSETTO:+0200
TZNAME:CEST
DTSTART:20200329T010000
END:DAYLIGHT
BEGIN:STANDARD
TZOFFSETFROM:+0200
TZOFFSETTO:+0100
TZNAME:CET
DTSTART:20201025T010000
END:STANDARD
END:VTIMEZONE
BEGIN:VEVENT
DTSTART;VALUE=DATE:20200222
DTEND;VALUE=DATE:20200225
DTSTAMP:20260424T153108
CREATED:20191217T152345Z
LAST-MODIFIED:20191217T152537Z
UID:15691-1582329600-1582588799@www.digitisation.eu
SUMMARY:ICAART2020
DESCRIPTION:The 12th International Conference on Agents and Artificial Intelligence will be held on 22-24 February\, 2020 in Valletta\, Malta\, and will be organised in conjunction with ICORES2020\, BIOSTEC2020 and ICPRAM2020.
URL:https://www.digitisation.eu/event/icaart2020/
LOCATION:Grand Hotel Excelsior\, Great Siege Road\, Valletta\, FRN 1810\, Malta
ATTACH;FMTTYPE=image/jpeg:https://www.digitisation.eu/wp-content/uploads/2019/12/banner-icaart-2020-1200x630-1.jpg
END:VEVENT
END:VCALENDAR