BEGIN:VCALENDAR
VERSION:2.0
PRODID:-//IMPACT Centre of Competence - ECPv6.13.2.1//NONSGML v1.0//EN
CALSCALE:GREGORIAN
METHOD:PUBLISH
X-ORIGINAL-URL:https://www.digitisation.eu
X-WR-CALDESC:Events for IMPACT Centre of Competence
REFRESH-INTERVAL;VALUE=DURATION:PT1H
X-Robots-Tag:noindex
X-PUBLISHED-TTL:PT1H
BEGIN:VTIMEZONE
TZID:Europe/Madrid
BEGIN:DAYLIGHT
TZOFFSETFROM:+0100
TZOFFSETTO:+0200
TZNAME:CEST
DTSTART:20190331T010000
END:DAYLIGHT
BEGIN:STANDARD
TZOFFSETFROM:+0200
TZOFFSETTO:+0100
TZNAME:CET
DTSTART:20191027T010000
END:STANDARD
END:VTIMEZONE
BEGIN:VEVENT
DTSTART;VALUE=DATE:20190909
DTEND;VALUE=DATE:20190913
DTSTAMP:20260425T015808
CREATED:20190131T100917Z
LAST-MODIFIED:20190131T100917Z
UID:15385-1567987200-1568332799@www.digitisation.eu
SUMMARY:TPDL 2019
DESCRIPTION:[cs_content][cs_section parallax=”false” separator_top_type=”none” separator_top_height=”50px” separator_top_inset=”0px” separator_top_angle_point=”50″ separator_bottom_type=”none” separator_bottom_height=”50px” separator_bottom_inset=”0px” separator_bottom_angle_point=”50″ style=”margin: 0px;padding: 45px 0px;”][cs_row inner_container=”true” marginless_columns=”false” style=”margin: 0px auto;padding: 0px;”][cs_column fade=”false” fade_animation=”in” fade_animation_offset=”45px” fade_duration=”750″ type=”2/3″ style=”padding: 0px;”][x_image type=”none” src=”https://www.digitisation.eu/wp-content/uploads/2019/01/tpdl-logo.png” alt=”” link=”false” href=”#” title=”” target=”” info=”none” info_place=”top” info_trigger=”hover” info_content=”” style=”width: 25%;float: left;padding-right: 10px;”][cs_text] \nDigital libraries and repositories store\, manage\, represent and disseminate rich and heterogenous data that are often of enormous cultural\, scientific\, educational\, artistic\, and social value. Serving as digital ecosystems for empowering researchers and practitioners they provide unparalleled opportunities for novel knowledge extraction and discovery. TPDL 2019 attempts to facilitate establishing connections and convergences between diverse research communities such as Digital Humanities\, Information Sciences and others that could benefit from (and contribute to) ecosystems offered by digital libraries and repositories. To become especially useful to the diverse research and practitioner communities digital libraries need to consider special needs and requirements for effective data utilization\, management and exploitation. \n[/cs_text][/cs_column][cs_column fade=”false” fade_animation=”in” fade_animation_offset=”45px” fade_duration=”750″ type=”1/3″ style=”padding: 0px;”][x_recent_posts type=”post” count=”4″ offset=”” category=”TPDL2019″ orientation=”vertical” no_sticky=”true” no_image=”false” fade=”false”][/cs_column][/cs_row][/cs_section][/cs_content]
URL:https://www.digitisation.eu/event/tpdl-2019/
LOCATION:OSLOMET – Oslo Metropolitan University\, campus Pilestredet 48\, Oslo\, Norway
END:VEVENT
END:VCALENDAR