BEGIN:VCALENDAR
VERSION:2.0
PRODID:-//IMPACT Centre of Competence - ECPv6.13.2.1//NONSGML v1.0//EN
CALSCALE:GREGORIAN
METHOD:PUBLISH
X-WR-CALNAME:IMPACT Centre of Competence
X-ORIGINAL-URL:https://www.digitisation.eu
X-WR-CALDESC:Events for IMPACT Centre of Competence
REFRESH-INTERVAL;VALUE=DURATION:PT1H
X-Robots-Tag:noindex
X-PUBLISHED-TTL:PT1H
BEGIN:VTIMEZONE
TZID:Europe/Madrid
BEGIN:DAYLIGHT
TZOFFSETFROM:+0100
TZOFFSETTO:+0200
TZNAME:CEST
DTSTART:20190331T010000
END:DAYLIGHT
BEGIN:STANDARD
TZOFFSETFROM:+0200
TZOFFSETTO:+0100
TZNAME:CET
DTSTART:20191027T010000
END:STANDARD
END:VTIMEZONE
BEGIN:VEVENT
DTSTART;VALUE=DATE:20190824
DTEND;VALUE=DATE:20190831
DTSTAMP:20260425T035204
CREATED:20181010T081259Z
LAST-MODIFIED:20181010T081259Z
UID:15245-1566604800-1567209599@www.digitisation.eu
SUMMARY:IFLA 85th World Library and Information Congress 2019
DESCRIPTION:[cs_content][cs_section parallax=”false” separator_top_type=”none” separator_top_height=”50px” separator_top_inset=”0px” separator_top_angle_point=”50″ separator_bottom_type=”none” separator_bottom_height=”50px” separator_bottom_inset=”0px” separator_bottom_angle_point=”50″ _order=”0″ style=”margin: 0px;padding: 45px 0px;”][cs_row inner_container=”true” marginless_columns=”false” style=”margin: 0px auto;padding: 0px;”][cs_column fade=”false” fade_animation=”in” fade_animation_offset=”45px” fade_duration=”750″ type=”2/3″ style=”padding: 0px;”][cs_text] \nThe 85th edition of the IFLA World Library and Information Congress (WLIC) will take place next August 24-30\, 2019 in Athens\, Greece. \nThe theme for the 85th conference is “Libraries: dialogue for change”. \n[/cs_text][/cs_column][cs_column fade=”false” fade_animation=”in” fade_animation_offset=”45px” fade_duration=”750″ type=”1/3″ style=”padding: 0px;”][x_recent_posts type=”post” count=”4″ offset=”” category=”IPRES2018″ orientation=”vertical” no_sticky=”true” no_image=”false” fade=”false”][/cs_column][/cs_row][/cs_section][/cs_content]
URL:https://www.digitisation.eu/event/ifla-85th-world-library-and-information-congress-2019/
LOCATION:Megaron Athens International Convention Centre\, Leoforos Vasilissis Sofias and Kokkali 1\, Athens\, 115 21\, Greece
ATTACH;FMTTYPE=image/png:https://www.digitisation.eu/wp-content/uploads/2018/10/ifla-wlic-2019-athens-banner-800-blue.png
ORGANIZER;CN="IFLA":MAILTO:ifla@ifla.org
END:VEVENT
END:VCALENDAR