BEGIN:VCALENDAR
VERSION:2.0
PRODID:-//IMPACT Centre of Competence - ECPv6.13.2.1//NONSGML v1.0//EN
CALSCALE:GREGORIAN
METHOD:PUBLISH
X-WR-CALNAME:IMPACT Centre of Competence
X-ORIGINAL-URL:https://www.digitisation.eu
X-WR-CALDESC:Events for IMPACT Centre of Competence
REFRESH-INTERVAL;VALUE=DURATION:PT1H
X-Robots-Tag:noindex
X-PUBLISHED-TTL:PT1H
BEGIN:VTIMEZONE
TZID:Europe/Madrid
BEGIN:DAYLIGHT
TZOFFSETFROM:+0100
TZOFFSETTO:+0200
TZNAME:CEST
DTSTART:20190331T010000
END:DAYLIGHT
BEGIN:STANDARD
TZOFFSETFROM:+0200
TZOFFSETTO:+0100
TZNAME:CET
DTSTART:20191027T010000
END:STANDARD
END:VTIMEZONE
BEGIN:VEVENT
DTSTART;VALUE=DATE:20190508
DTEND;VALUE=DATE:20190511
DTSTAMP:20260425T142215
CREATED:20181030T155949Z
LAST-MODIFIED:20181030T165954Z
UID:15305-1557273600-1557532799@www.digitisation.eu
SUMMARY:DATeCH 2019 International Conference
DESCRIPTION:[cs_content][cs_section parallax=”false” separator_top_type=”none” separator_top_height=”50px” separator_top_inset=”0px” separator_top_angle_point=”50″ separator_bottom_type=”none” separator_bottom_height=”50px” separator_bottom_inset=”0px” separator_bottom_angle_point=”50″ style=”margin: 0px;padding: 45px 0px;”][cs_row inner_container=”true” marginless_columns=”false” style=”margin: 0px auto;padding: 0px;”][cs_column fade=”false” fade_animation=”in” fade_animation_offset=”45px” fade_duration=”750″ type=”2/3″ style=”padding: 0px;”][cs_text] \nThe International DATeCH (Digital Access to Textual Cultural Heritage) conference brings together researchers and practitioners seeking innovative approaches for the creation\, transformation and exploitation of historical documents in digital form. This interdisciplinary conference\, takes place at the intersection of computer science\, (digital) humanities\, and cultural heritage studies.  \nFollowing the previous successful editions of the conference at the National Library of Spain in 2014 and the Göttingen State and University Library\, Germany in 2017\, we are delighted to announce that the 3rd edition of DATeCH will take place at the Royal Flemish Academy of Belgium for Science and the Arts in the heart of Brussels\, Belgium. \n[/cs_text][/cs_column][cs_column fade=”false” fade_animation=”in” fade_animation_offset=”45px” fade_duration=”750″ type=”1/3″ style=”padding: 0px;”][x_recent_posts type=”post” count=”4″ offset=”” category=”DATECH2019″ orientation=”vertical” no_sticky=”true” no_image=”false” fade=”false”][/cs_column][/cs_row][/cs_section][/cs_content]
URL:https://www.digitisation.eu/event/datech-2019-international-conference/
LOCATION:Royal Flemish Academy of Belgium for Science and the Arts\, Rue Ducale 1\, Brussels\, 1000\, Belgium
ATTACH;FMTTYPE=image/png:https://www.digitisation.eu/wp-content/uploads/2018/10/LogoVFB.png
END:VEVENT
END:VCALENDAR