BEGIN:VCALENDAR
VERSION:2.0
PRODID:-//IMPACT Centre of Competence - ECPv6.13.2.1//NONSGML v1.0//EN
CALSCALE:GREGORIAN
METHOD:PUBLISH
X-WR-CALNAME:IMPACT Centre of Competence
X-ORIGINAL-URL:https://www.digitisation.eu
X-WR-CALDESC:Events for IMPACT Centre of Competence
REFRESH-INTERVAL;VALUE=DURATION:PT1H
X-Robots-Tag:noindex
X-PUBLISHED-TTL:PT1H
BEGIN:VTIMEZONE
TZID:Europe/Madrid
BEGIN:DAYLIGHT
TZOFFSETFROM:+0100
TZOFFSETTO:+0200
TZNAME:CEST
DTSTART:20190331T010000
END:DAYLIGHT
BEGIN:STANDARD
TZOFFSETFROM:+0200
TZOFFSETTO:+0100
TZNAME:CET
DTSTART:20191027T010000
END:STANDARD
END:VTIMEZONE
BEGIN:VEVENT
DTSTART;TZID=Europe/Madrid:20190313T110000
DTEND;TZID=Europe/Madrid:20190313T120000
DTSTAMP:20260425T174325
CREATED:20230706T091053Z
LAST-MODIFIED:20230706T121317Z
UID:18109-1552474800-1552478400@www.digitisation.eu
SUMMARY:An Introduction to IIIF
DESCRIPTION:Sesion lead\n\n\n\nTom Crane (Digirati & IIIF Editorial Committee) \n\n\n\nDescription\n\n\n\nThe International Image Interoperability Framework (IIIF) is revolutionising access to digital objects of cultural heritage\, by providing a standard for viewers and servers to implement. Hundreds of institutions (including many European National Libraries) are making their collections available using the new standard. As well as reducing costs of implementation\, the emergence of IIIF for publishing digital objects (digitised books\, maps\, manuscripts\, archives\, artworks) is driving innovation and opening up new research possibilities for annotation\, crowdsourcing and machine learning across collections. \n\n\n\n \n\n\n\nRecording\n\n\n\n\n\n\n\n			 ARVE Error: src mismatch\n\nprovider:    youtubeurl:         https://www.youtube.com/watch?v=IkUDlFGRLik&list=PLHgYXaZMqUrj1jJLE-4rIRGkW9Em5AK8o&index=1&t=1ssrc:         https://www.youtube-nocookie.com/embed/IkUDlFGRLik?list=PLHgYXaZMqUrj1jJLE-4rIRGkW9Em5AK8osrc gen:     https://www.youtube-nocookie.com/embed/IkUDlFGRLik?start=1&list=PLHgYXaZMqUrj1jJLE-4rIRGkW9Em5AK8o
URL:https://www.digitisation.eu/event/an-introduction-to-iiif-tom-crane-digirati/
CATEGORIES:IMPACT Webinars
ATTACH;FMTTYPE=image/png:https://www.digitisation.eu/wp-content/uploads/2023/06/HorizonEurope.png
END:VEVENT
END:VCALENDAR