BEGIN:VCALENDAR
VERSION:2.0
PRODID:-//IMPACT Centre of Competence - ECPv6.13.2.1//NONSGML v1.0//EN
CALSCALE:GREGORIAN
METHOD:PUBLISH
X-WR-CALNAME:IMPACT Centre of Competence
X-ORIGINAL-URL:https://www.digitisation.eu
X-WR-CALDESC:Events for IMPACT Centre of Competence
REFRESH-INTERVAL;VALUE=DURATION:PT1H
X-Robots-Tag:noindex
X-PUBLISHED-TTL:PT1H
BEGIN:VTIMEZONE
TZID:Europe/Madrid
BEGIN:DAYLIGHT
TZOFFSETFROM:+0100
TZOFFSETTO:+0200
TZNAME:CEST
DTSTART:20180325T010000
END:DAYLIGHT
BEGIN:STANDARD
TZOFFSETFROM:+0200
TZOFFSETTO:+0100
TZNAME:CET
DTSTART:20181028T010000
END:STANDARD
END:VTIMEZONE
BEGIN:VEVENT
DTSTART;VALUE=DATE:20181126
DTEND;VALUE=DATE:20181129
DTSTAMP:20260425T223708
CREATED:20180514T104125Z
LAST-MODIFIED:20180514T104531Z
UID:14715-1543190400-1543449599@www.digitisation.eu
SUMMARY:SWIB18 - 10th Semantic Web in Libraries Conference
DESCRIPTION:[cs_content][cs_section parallax=”false” separator_top_type=”none” separator_top_height=”50px” separator_top_angle_point=”50″ separator_bottom_type=”none” separator_bottom_height=”50px” separator_bottom_angle_point=”50″ style=”margin: 0px;padding: 45px 0px;”][cs_row inner_container=”true” marginless_columns=”false” style=”margin: 0px auto;padding: 0px;”][cs_column fade=”false” fade_animation=”in” fade_animation_offset=”45px” fade_duration=”750″ type=”2/3″ style=”padding: 0px;”][x_image type=”none” src=”https://www.digitisation.eu/wp-content/uploads/2018/05/logo-swib-neu.png” alt=”” link=”false” href=”#” title=”” target=”” info=”none” info_place=”top” info_trigger=”hover” info_content=””][cs_text]SWIB conference (Semantic Web in Libraries) is an annual conference\, being held for the 10th time\, focusing on Linked Open Data (LOD) in libraries and related organizations. It is well established as an event where IT staff\, developers\, librarians\, and researchers from all over the world meet and mingle and learn from each other. The topics of talks and workshops at SWIB revolve around opening data\, linking data and creating tools and software for LOD production scenarios. These areas of focus are supplemented by presentations of research projects in applied sciences\, industry applications and LOD activities in other areas. \nAs usual\, SWIB18 will be organized by the North Rhine-Westphalian Library Service Centre (hbz) and the ZBW – Leibniz Information Centre for Economics. The conference language is English.[/cs_text][/cs_column][cs_column fade=”false” fade_animation=”in” fade_animation_offset=”45px” fade_duration=”750″ type=”1/3″ style=”padding: 0px;”][x_recent_posts type=”post” count=”2″ offset=”” category=”SWIB18″ orientation=”vertical” no_sticky=”true” no_image=”false” fade=”false”][x_recent_posts type=”post” count=”4″ offset=”” category=”IPRES2018″ orientation=”vertical” no_sticky=”true” no_image=”false” fade=”false”][/cs_column][/cs_row][/cs_section][/cs_content]
URL:https://www.digitisation.eu/event/swib18-10th-semantic-web-libraries-conference/
LOCATION:Friedrich Ebert-Stiftung Bonn Bonner Haus\, Godesberger Allee 149\, Bonn\, 53175\, Germany
CATEGORIES:Events
END:VEVENT
END:VCALENDAR